BEGIN:VCALENDAR
VERSION:2.0
PRODID:-//Plone.org//NONSGML plone.app.event//EN
X-WR-TIMEZONE:Europe/Berlin
BEGIN:VEVENT
SUMMARY:Soja und Rinder gegen Autos und Agrargifte
DTSTART;TZID=Europe/Berlin;VALUE=DATE-TIME:20200115T220000
DTEND;TZID=Europe/Berlin;VALUE=DATE-TIME:20200115T233000
DTSTAMP;VALUE=DATE-TIME:20260421T103624Z
UID:29bc494030a6b828495790811ac1e18f@app-03.tuxwerk.de:8080
CONTACT:email@poema-deutschland.de
CREATED;VALUE=DATE-TIME:20200429T182229Z
DESCRIPTION:Diskussion über das EU-Mercosur-Abkommen mit Prof. Antonio An
 drioli (bis Aug 2019 Vizepräsident der Universidade Federal da Fronteira 
 Sul\, Südbrasilien) und Sven Giegold (Grüner Europaabgeordneter und wirt
 schafts- und finanzpolitischer Sprecher\n\nder Grünen/EFA-Fraktion)
LAST-MODIFIED;VALUE=DATE-TIME:20200429T182229Z
LOCATION:Stuttgart
URL:https://www.kooperation-brasilien.org/de/veranstaltungen/termine/201es
 oja-und-rinder-gegen-autos-und-agrargifte201c
END:VEVENT
BEGIN:VTIMEZONE
TZID:Europe/Berlin
X-LIC-LOCATION:Europe/Berlin
BEGIN:STANDARD
DTSTART;VALUE=DATE-TIME:20191027T020000
TZNAME:CET
TZOFFSETFROM:+0200
TZOFFSETTO:+0100
END:STANDARD
END:VTIMEZONE
END:VCALENDAR
