BEGIN:VCALENDAR
VERSION:2.0
PRODID:-//Plone.org//NONSGML plone.app.event//EN
X-WR-TIMEZONE:Europe/Berlin
BEGIN:VEVENT
SUMMARY:„Gewerkschaft gegen Chemiekonzerne - Leben vor Profit“
DTSTART;TZID=Europe/Berlin;VALUE=DATE-TIME:20161111T203000
DTEND;TZID=Europe/Berlin;VALUE=DATE-TIME:20161112T000000
DTSTAMP;VALUE=DATE-TIME:20260423T192611Z
UID:e45a97761fcc927f1e24c5fb5e824c1a@app-03.tuxwerk.de:8080
CREATED;VALUE=DATE-TIME:20200429T182226Z
DESCRIPTION:Erfahrungen aus einem außergewöhnlichen Arbeitskampf in Bras
 ilien
LAST-MODIFIED;VALUE=DATE-TIME:20200429T182226Z
LOCATION:Berlin
URL:https://www.kooperation-brasilien.org/de/veranstaltungen/termine/201eg
 ewerkschaft-gegen-chemiekonzerne-leben-vor-profit201c
END:VEVENT
BEGIN:VTIMEZONE
TZID:Europe/Berlin
X-LIC-LOCATION:Europe/Berlin
BEGIN:STANDARD
DTSTART;VALUE=DATE-TIME:20161030T020000
TZNAME:CET
TZOFFSETFROM:+0200
TZOFFSETTO:+0100
END:STANDARD
END:VTIMEZONE
END:VCALENDAR
