BEGIN:VCALENDAR
VERSION:2.0
PRODID:-//Plone.org//NONSGML plone.app.event//EN
X-WR-TIMEZONE:Europe/Berlin
BEGIN:VEVENT
SUMMARY:„Gegen den Völkermord an brasilianischen Indigenen”
DTSTART;TZID=Europe/Berlin;VALUE=DATE-TIME:20170503T230000
DTEND;TZID=Europe/Berlin;VALUE=DATE-TIME:20170504T020000
DTSTAMP;VALUE=DATE-TIME:20260420T222814Z
UID:a1b5cdbb2020209263574e595a206a41@app-03.tuxwerk.de:8080
CATEGORIES:Traditionelle Völker und Gemeinschaften,Landkonflikte und Umwe
 lt,Menschenrechte und Gesellschaft
CREATED;VALUE=DATE-TIME:20200429T182225Z
DESCRIPTION:Mit Ládio Verón (Aktivist\, Guarani-Kaiowá\, Brasilien)
LAST-MODIFIED;VALUE=DATE-TIME:20200429T182225Z
LOCATION:Frankfurt
URL:https://www.kooperation-brasilien.org/de/veranstaltungen/termine/201eg
 egen-den-voelkermord-an-brasilianischen-indigenen201d
END:VEVENT
BEGIN:VTIMEZONE
TZID:Europe/Berlin
X-LIC-LOCATION:Europe/Berlin
BEGIN:DAYLIGHT
DTSTART;VALUE=DATE-TIME:20170326T030000
TZNAME:CEST
TZOFFSETFROM:+0100
TZOFFSETTO:+0200
END:DAYLIGHT
END:VTIMEZONE
END:VCALENDAR
