BEGIN:VCALENDAR
VERSION:2.0
PRODID:-//Plone.org//NONSGML plone.app.event//EN
X-WR-TIMEZONE:Europe/Berlin
BEGIN:VEVENT
SUMMARY:„Count Down am Xingu V“
DTSTART;TZID=Europe/Berlin;VALUE=DATE-TIME:20170129T223000
DTEND;TZID=Europe/Berlin;VALUE=DATE-TIME:20170130T000000
DTSTAMP;VALUE=DATE-TIME:20260422T073247Z
UID:751ee4c51eefe8df36ea6d76530a36af@app-03.tuxwerk.de:8080
CREATED;VALUE=DATE-TIME:20200429T182220Z
DESCRIPTION:die "Globale Mittelhessen zeigt diesen Dokumentarfilm zum Kamp
 f gegen Megastaudämme im Amazonasgebiet und gegen Korruption in Brasilien
LAST-MODIFIED;VALUE=DATE-TIME:20200429T182220Z
LOCATION:Marburg
URL:https://www.kooperation-brasilien.org/de/veranstaltungen/termine/201ec
 ount-down-am-xingu-v201c-1
END:VEVENT
BEGIN:VTIMEZONE
TZID:Europe/Berlin
X-LIC-LOCATION:Europe/Berlin
BEGIN:STANDARD
DTSTART;VALUE=DATE-TIME:20161030T020000
TZNAME:CET
TZOFFSETFROM:+0200
TZOFFSETTO:+0100
END:STANDARD
END:VTIMEZONE
END:VCALENDAR
