BEGIN:VCALENDAR
VERSION:2.0
PRODID:-//Plone.org//NONSGML plone.app.event//EN
X-WR-TIMEZONE:Europe/Berlin
BEGIN:VEVENT
SUMMARY:„Brasilien: Demokratie in Gefahr! Linke Perspektiven nach den Wa
 hlen“
DTSTART;TZID=Europe/Berlin;VALUE=DATE-TIME:20181105T200000
DTEND;TZID=Europe/Berlin;VALUE=DATE-TIME:20181105T220000
DTSTAMP;VALUE=DATE-TIME:20260419T185152Z
UID:c23eb48cda6ba326d7e9d70c92c944ee@app-03.tuxwerk.de:8080
CREATED;VALUE=DATE-TIME:20200429T182215Z
DESCRIPTION:Abendveranstaltung im REFUGIO\, Lenaustraße 3-4\, 12047 Berli
 n
LAST-MODIFIED;VALUE=DATE-TIME:20200429T182215Z
LOCATION:Berlin
URL:https://www.kooperation-brasilien.org/de/veranstaltungen/termine/201eb
 rasilien-demokratie-in-gefahr-linke-perspektiven-nach-den-wahlen201c
END:VEVENT
BEGIN:VTIMEZONE
TZID:Europe/Berlin
X-LIC-LOCATION:Europe/Berlin
BEGIN:STANDARD
DTSTART;VALUE=DATE-TIME:20181028T020000
TZNAME:CET
TZOFFSETFROM:+0200
TZOFFSETTO:+0100
END:STANDARD
END:VTIMEZONE
END:VCALENDAR
