BEGIN:VCALENDAR
VERSION:2.0
PRODID:-//Plone.org//NONSGML plone.app.event//EN
X-WR-TIMEZONE:Europe/Berlin
BEGIN:VEVENT
SUMMARY:2. Veranstaltung der Kampagne zur Verteidigung des Cerrado: Audiê
 ncia Temática Soberania Alimentar e Sociobiodiversidade
DTSTART;VALUE=DATE:20220315
DTEND;VALUE=DATE:20220317
DTSTAMP;VALUE=DATE-TIME:20260419T185728Z
UID:deea15aef3e44318823ddbd977ec5604@app-03.tuxwerk.de:8080
CATEGORIES:Menschenrechte,Cerrado,Indigene Landrechte
CONTACT:https://tribunaldocerrado.org.br/programacao/
CREATED;VALUE=DATE-TIME:20211202T141234Z
DESCRIPTION:Die Nationale Kampagne zur Verteidigung des Cerrado (Campanha 
 Nacional em Defesa do Cerrado) organisiert derzeit im Rahmen des Tribunal 
 Permanente dos Povos - TPP (Völkertribunals) zur Verteidigung der Terriro
 rien im Cerrado\, eine Reihe virtueller thematischer Anhörungen.
LAST-MODIFIED;VALUE=DATE-TIME:20211202T141320Z
LOCATION:Digitale Übertragung via YouTube
URL:https://www.kooperation-brasilien.org/de/veranstaltungen/termine/2-ver
 anstaltung-der-kampagne-zur-verteidigung-des-cerrado-audiencia-tematica-so
 berania-alimentar-e-sociobiodiversidade
END:VEVENT
END:VCALENDAR
