BEGIN:VCALENDAR
VERSION:2.0
PRODID:-//Plone.org//NONSGML plone.app.event//EN
X-WR-TIMEZONE:Europe/Berlin
BEGIN:VEVENT
SUMMARY:RTB 2019 - Bolsonarismo in Brasilien. Unternehmen und Menschenrech
 te
DTSTART;TZID=Europe/Berlin;VALUE=DATE-TIME:20191108T200000
DTEND;TZID=Europe/Berlin;VALUE=DATE-TIME:20191110T150000
DTSTAMP;VALUE=DATE-TIME:20260422T034541Z
UID:93cf32da453b50b1c603017244c51524@app-03.tuxwerk.de:8080
CATEGORIES:_feb
CREATED;VALUE=DATE-TIME:20200429T182149Z
DESCRIPTION:Globale Unternehmensverantwortung nach fast einem Jahr Regieru
 ng Bolsonaro\nReferent*innen: Letícia Rangel Tura (FASE Nacional)\, Maril
 ene Alves de Souza (Dep. Estadual Câmara Legistlativa MG)\, Klaus Schilde
 r(Misereor)\, Yvonne Zimmermann (MultiWatch/SOLIFONDS)\, Katharina Boerlin
  (MultiWatch/Konzern-verantwortungsinitiative Schweiz)\, Charles Trocate (
 MAM)\, Bruno Langeani (Sou da Paz)\, Ralf Willinger (Terre Des Hommes Deut
 schland)\, Christian Russau (KoBra)\, Jaqueline Santos (FASE Amazônia)\, 
 Thomas Fatheuer (KoBra)
LAST-MODIFIED;VALUE=DATE-TIME:20210705T101829Z
LOCATION:Weimar
URL:https://www.kooperation-brasilien.org/de/veranstaltungen/runder-tisch-
 brasilien/rtb-2019/rtb-2019-menschenrechte-und-internationale-unternehmens
 verantwortung
END:VEVENT
BEGIN:VTIMEZONE
TZID:Europe/Berlin
X-LIC-LOCATION:Europe/Berlin
BEGIN:STANDARD
DTSTART;VALUE=DATE-TIME:20191027T020000
TZNAME:CET
TZOFFSETFROM:+0200
TZOFFSETTO:+0100
END:STANDARD
END:VTIMEZONE
END:VCALENDAR
