BEGIN:VCALENDAR
VERSION:2.0
PRODID:-//Plone.org//NONSGML plone.app.event//EN
X-WR-TIMEZONE:Europe/Berlin
BEGIN:VEVENT
SUMMARY:RTB 2017 - Kein Recht weniger!
DTSTART;TZID=Europe/Berlin;VALUE=DATE-TIME:20171110T190000
DTEND;TZID=Europe/Berlin;VALUE=DATE-TIME:20171112T150000
DTSTAMP;VALUE=DATE-TIME:20260420T081738Z
UID:173e9c29d0b1cb7335fa99f7d25f31ef@app-03.tuxwerk.de:8080
CATEGORIES:Menschenrechte und Gesellschaft
CREATED;VALUE=DATE-TIME:20200429T181256Z
DESCRIPTION:Kampfzone Menschenrechte
LAST-MODIFIED;VALUE=DATE-TIME:20200429T181257Z
LOCATION:Hofgeismar
URL:https://www.kooperation-brasilien.org/de/veranstaltungen/runder-tisch-
 brasilien/rtb-2017/rtb-2017-kein-recht-weniger
END:VEVENT
BEGIN:VTIMEZONE
TZID:Europe/Berlin
X-LIC-LOCATION:Europe/Berlin
BEGIN:STANDARD
DTSTART;VALUE=DATE-TIME:20171029T020000
TZNAME:CET
TZOFFSETFROM:+0200
TZOFFSETTO:+0100
END:STANDARD
END:VTIMEZONE
END:VCALENDAR
