BEGIN:VCALENDAR
VERSION:2.0
PRODID:-//Plone.org//NONSGML plone.app.event//EN
X-WR-TIMEZONE:Europe/Berlin
BEGIN:VEVENT
SUMMARY:Wem gehört das Land? - Globale Landnahme und die Frage nach Ernä
 hrungssouveranität in Brasilien
DTSTART;TZID=Europe/Berlin;VALUE=DATE-TIME:20141119T213000
DTEND;TZID=Europe/Berlin;VALUE=DATE-TIME:20141120T000000
DTSTAMP;VALUE=DATE-TIME:20260421T194238Z
UID:39d970451808259cabe2e5f9bebcaad9@app-03.tuxwerk.de:8080
CONTACT:Projekt Menschenrechte Brasilien\, brasilien@allerweltshaus.de
CREATED;VALUE=DATE-TIME:20200429T180723Z
DESCRIPTION:Diskussionsveranstaltung mit Marisa de Fatima da Luz & Oswaldo
  Samuel Costa Santos von der Landlosenbewegung MST aus Brasilien\n\nEintri
 tt frei - Spenden wilkommen
LAST-MODIFIED;VALUE=DATE-TIME:20200429T180723Z
LOCATION:Allerweltshaus Köln e.V. Körnerstraße 77-79 50823 Köln
URL:https://www.kooperation-brasilien.org/de/veranstaltungen/runder-tisch-
 brasilien/rtb-2014/wem-gehoert-das-land-globale-landnahme-und-die-frage-na
 ch-ernaehrungssouveranitaet-in-brasilien
END:VEVENT
BEGIN:VTIMEZONE
TZID:Europe/Berlin
X-LIC-LOCATION:Europe/Berlin
BEGIN:STANDARD
DTSTART;VALUE=DATE-TIME:20141026T020000
TZNAME:CET
TZOFFSETFROM:+0200
TZOFFSETTO:+0100
END:STANDARD
END:VTIMEZONE
END:VCALENDAR
