BEGIN:VCALENDAR
VERSION:2.0
PRODID:-//Plone.org//NONSGML plone.app.event//EN
X-WR-TIMEZONE:Europe/Berlin
BEGIN:VEVENT
SUMMARY:Runder Tisch Brasilien 2021: Kampf gegen Ungleichheit in der Pande
 mie
DTSTART;TZID=Europe/Berlin;VALUE=DATE-TIME:20211126T180000
DTEND;TZID=Europe/Berlin;VALUE=DATE-TIME:20211128T130000
DTSTAMP;VALUE=DATE-TIME:20260420T025501Z
UID:6a97059854134ee88f2a33856f4f0828@app-03.tuxwerk.de:8080
CATEGORIES:_feb
CREATED;VALUE=DATE-TIME:20210519T134141Z
DESCRIPTION:Anders als geplant findet unsere Fachtagung dieses Jahr wieder
  komplett im Online-Format statt. Dennoch haben wir ein interessantes Prog
 ramm geplant. Die Veranstlatungen werden simultan verdolmetscht und die An
 meldung ist noch bis heute möglich.\n**Bitte beachtet die Programmänderu
 ngen**
LAST-MODIFIED;VALUE=DATE-TIME:20220413T122529Z
LOCATION:Online bei Big Blue Button
URL:https://www.kooperation-brasilien.org/de/veranstaltungen/runder-tisch-
 brasilien/mesa-redonda-brasil-2021/runder-tisch-brasilien-2021-brasiliens-
 verschaerfte-ungleichheit-unter-der-pandemie-arbeitstitel
END:VEVENT
BEGIN:VTIMEZONE
TZID:Europe/Berlin
X-LIC-LOCATION:Europe/Berlin
BEGIN:STANDARD
DTSTART;VALUE=DATE-TIME:20211031T020000
TZNAME:CET
TZOFFSETFROM:+0200
TZOFFSETTO:+0100
END:STANDARD
END:VTIMEZONE
END:VCALENDAR
