BEGIN:VCALENDAR
VERSION:2.0
PRODID:-//Plone.org//NONSGML plone.app.event//EN
X-WR-TIMEZONE:Europe/Berlin
BEGIN:VEVENT
SUMMARY:KoBrinar: Zwischen den Wahlen - ein Stimmungsbild aus Brasilien
DTSTART;TZID=Europe/Berlin;VALUE=DATE-TIME:20221026T190000
DTEND;TZID=Europe/Berlin;VALUE=DATE-TIME:20221026T203000
DTSTAMP;VALUE=DATE-TIME:20260425T225257Z
UID:c37e68e45fc74bcb876c5c1760ec2f5b@app-03.tuxwerk.de:8080
CATEGORIES:Wahlen,Wahlkampf,_feb23
CREATED;VALUE=DATE-TIME:20221019T144906Z
DESCRIPTION:Aus dem ersten Wahlgang der Präsidentschaftswahl in Brasilien
  ging Luiz Inácio Lula da Silva als Sieger hervor. Allerdings entgegen al
 ler Prognosen mit nur wenigen Prozentpunkten vor dem amtierenden Präsiden
 ten Jair Bolsonaro. Nun werden die Wähler*innen in der Stichwahl am 30. O
 ktober entscheiden\, wer das südamerikanische Land in den kommenden 4 Jah
 ren regieren soll. Die Anspannung bei den Bewegungen steigt. \nNeben den P
 räsidentschaftswahlen haben auch die Wahlen zum Kongress und zu Landespar
 lamenten stattgefunden.\nWir nutzen die Präsenz von Niklas Franzen vor Or
 t für ein Gespräch über seine Wahlbeobachtungen\, Analysen und einen vo
 rsichtigen Blick in die Zukunft.
LAST-MODIFIED;VALUE=DATE-TIME:20230216T094634Z
LOCATION:Online nach Anmeldung\, BigBlueButton
URL:https://www.kooperation-brasilien.org/de/veranstaltungen/kobrinar/zwis
 chen-den-wahlen-ein-stimmungsbild-aus-brasilien
END:VEVENT
BEGIN:VTIMEZONE
TZID:Europe/Berlin
X-LIC-LOCATION:Europe/Berlin
BEGIN:DAYLIGHT
DTSTART;VALUE=DATE-TIME:20220327T030000
TZNAME:CEST
TZOFFSETFROM:+0100
TZOFFSETTO:+0200
END:DAYLIGHT
END:VTIMEZONE
END:VCALENDAR
