BEGIN:VCALENDAR
VERSION:2.0
PRODID:-//Plone.org//NONSGML plone.app.event//EN
X-WR-TIMEZONE:Europe/Berlin
BEGIN:VEVENT
SUMMARY:China schmeißt die Wirtschaft wieder an - ein ökologischer Albtr
 aum für Brasilien\; und die Welt?
DTSTART;TZID=Europe/Berlin;VALUE=DATE-TIME:20200430T203000
DTEND;TZID=Europe/Berlin;VALUE=DATE-TIME:20200430T213000
DTSTAMP;VALUE=DATE-TIME:20260425T211333Z
UID:d02b6329e8f226acf0a9966eabcdee5a@app-03.tuxwerk.de:8080
CATEGORIES:Politik und Wirtschaft,_feb
CREATED;VALUE=DATE-TIME:20200429T183330Z
LAST-MODIFIED;VALUE=DATE-TIME:20210126T080306Z
LOCATION:BigBlueButton
URL:https://www.kooperation-brasilien.org/de/veranstaltungen/kobrinar/chin
 a-schmeisst-die-wirtschaft-wieder-an-ein-oekologischer-albtraum-fuer-brasi
 lien-und-die-welt
END:VEVENT
BEGIN:VTIMEZONE
TZID:Europe/Berlin
X-LIC-LOCATION:Europe/Berlin
BEGIN:DAYLIGHT
DTSTART;VALUE=DATE-TIME:20200329T030000
TZNAME:CEST
TZOFFSETFROM:+0100
TZOFFSETTO:+0200
END:DAYLIGHT
END:VTIMEZONE
END:VCALENDAR
