BEGIN:VCALENDAR
VERSION:2.0
PRODID:-//Plone.org//NONSGML plone.app.event//EN
X-WR-TIMEZONE:Europe/Berlin
BEGIN:VEVENT
SUMMARY:Amazonien in Gefahr: Die zerstörerischen Großprojekte Ferrogrão
 \, Bergbau und Energie
DTSTART;TZID=Europe/Berlin;VALUE=DATE-TIME:20211103T180000
DTEND;TZID=Europe/Berlin;VALUE=DATE-TIME:20211103T193000
DTSTAMP;VALUE=DATE-TIME:20260421T115816Z
UID:06e828c3644546efaed65ca215428ffe@app-03.tuxwerk.de:8080
CATEGORIES:_feb
CREATED;VALUE=DATE-TIME:20211025T104427Z
DESCRIPTION:Die Journalistin und Umweltaktivistin Telma Monteiro berichtet
  in diesem KoBrinar von den zerstörerischen Infrastrukturprojekten\, welc
 he die aktuelle Regierung im Amazonas-Becken verfolgt. Telma war bereits m
 it internationalen Akteur*innen\, die an der Finanzierung beteiligt sind i
 m Gespräch und setzt sich gegen die Durchführung ein.\n\nDie Veranstaltu
 ng wurde simultan übersetzt und im Anschluss an den Input gab es Raum fü
 r Fragen und Austausch.
LAST-MODIFIED;VALUE=DATE-TIME:20220201T105447Z
LOCATION:Big Blue Button
URL:https://www.kooperation-brasilien.org/de/veranstaltungen/kobrinar/amaz
 onien-ist-gefaehrdet-die-zerstoererischen-grossprojekte-ferrograo-bergbau-
 und-energie
END:VEVENT
BEGIN:VTIMEZONE
TZID:Europe/Berlin
X-LIC-LOCATION:Europe/Berlin
BEGIN:STANDARD
DTSTART;VALUE=DATE-TIME:20211031T020000
TZNAME:CET
TZOFFSETFROM:+0200
TZOFFSETTO:+0100
END:STANDARD
END:VTIMEZONE
END:VCALENDAR
