BEGIN:VCALENDAR
VERSION:2.0
PRODID:-//Plone.org//NONSGML plone.app.event//EN
X-WR-TIMEZONE:Europe/Berlin
BEGIN:VEVENT
SUMMARY:Agrarökologie in Brasilien: Familien kämpfen für ein Leben ohne
  Agrar-Gifte
DTSTART;TZID=Europe/Berlin;VALUE=DATE-TIME:20200616T190000
DTEND;TZID=Europe/Berlin;VALUE=DATE-TIME:20200616T203000
DTSTAMP;VALUE=DATE-TIME:20260422T073441Z
UID:4a1d1d84164b48f3b3ca5330f00c3e68@app-03.tuxwerk.de:8080
CATEGORIES:_feb,KoBrinar,Landkonflikte und Umwelt,Soziale Bewegungen,Mensc
 henrechte und Gesellschaft
CREATED;VALUE=DATE-TIME:20200608T095230Z
LAST-MODIFIED;VALUE=DATE-TIME:20200723T080123Z
LOCATION:Webkonferenz mit BigBlueButton
URL:https://www.kooperation-brasilien.org/de/veranstaltungen/kobrinar/agra
 roekologie-in-brasilien-familien-kaempfen-fuer-ein-leben-ohne-agrar-gifte-
 2
END:VEVENT
BEGIN:VTIMEZONE
TZID:Europe/Berlin
X-LIC-LOCATION:Europe/Berlin
BEGIN:DAYLIGHT
DTSTART;VALUE=DATE-TIME:20200329T030000
TZNAME:CEST
TZOFFSETFROM:+0100
TZOFFSETTO:+0200
END:DAYLIGHT
END:VTIMEZONE
END:VCALENDAR
