BEGIN:VCALENDAR
VERSION:2.0
PRODID:-//Plone.org//NONSGML plone.app.event//EN
X-WR-TIMEZONE:Europe/Berlin
BEGIN:VEVENT
SUMMARY:Frühjahrstagung: E agora José? Brasiliens Linke – Zustand und 
 Perspektive
DTSTART;TZID=Europe/Berlin;VALUE=DATE-TIME:20160408T210000
DTEND;TZID=Europe/Berlin;VALUE=DATE-TIME:20160410T180000
DTSTAMP;VALUE=DATE-TIME:20260420T023559Z
UID:790618ba74ecbbf9a3c3bb203ff3c99b@app-03.tuxwerk.de:8080
CATEGORIES:Soziale Bewegungen,Politik und Wirtschaft
CONTACT:KoBra\, info@kooperation-brasilien.org
CREATED;VALUE=DATE-TIME:20200429T175901Z
DESCRIPTION:Im Rahmen der Frühjahrstagung findet auch die Mitgliederversa
 mmlung des Kooperation Brasilien e. V. statt.
LAST-MODIFIED;VALUE=DATE-TIME:20200504T124058Z
LOCATION:Niederkaufungen
URL:https://www.kooperation-brasilien.org/de/veranstaltungen/fruehjahrstag
 ung/mv-2016/e-agoara-jose
END:VEVENT
BEGIN:VTIMEZONE
TZID:Europe/Berlin
X-LIC-LOCATION:Europe/Berlin
BEGIN:DAYLIGHT
DTSTART;VALUE=DATE-TIME:20160327T030000
TZNAME:CEST
TZOFFSETFROM:+0100
TZOFFSETTO:+0200
END:DAYLIGHT
END:VTIMEZONE
END:VCALENDAR
